BEGIN:VCALENDAR
VERSION:2.0
PRODID:-//St. Clement&#039;s - ECPv6.15.13.1//NONSGML v1.0//EN
CALSCALE:GREGORIAN
METHOD:PUBLISH
X-ORIGINAL-URL:https://www.scs.on.ca
X-WR-CALDESC:Events for St. Clement&#039;s
REFRESH-INTERVAL;VALUE=DURATION:PT1H
X-Robots-Tag:noindex
X-PUBLISHED-TTL:PT1H
BEGIN:VTIMEZONE
TZID:America/Toronto
BEGIN:DAYLIGHT
TZOFFSETFROM:-0500
TZOFFSETTO:-0400
TZNAME:EDT
DTSTART:20230312T070000
END:DAYLIGHT
BEGIN:STANDARD
TZOFFSETFROM:-0400
TZOFFSETTO:-0500
TZNAME:EST
DTSTART:20231105T060000
END:STANDARD
BEGIN:DAYLIGHT
TZOFFSETFROM:-0500
TZOFFSETTO:-0400
TZNAME:EDT
DTSTART:20240310T070000
END:DAYLIGHT
BEGIN:STANDARD
TZOFFSETFROM:-0400
TZOFFSETTO:-0500
TZNAME:EST
DTSTART:20241103T060000
END:STANDARD
BEGIN:DAYLIGHT
TZOFFSETFROM:-0500
TZOFFSETTO:-0400
TZNAME:EDT
DTSTART:20250309T070000
END:DAYLIGHT
BEGIN:STANDARD
TZOFFSETFROM:-0400
TZOFFSETTO:-0500
TZNAME:EST
DTSTART:20251102T060000
END:STANDARD
END:VTIMEZONE
BEGIN:VEVENT
DTSTART;TZID=America/Toronto:20240605T000000
DTEND;TZID=America/Toronto:20240605T235959
DTSTAMP:20260421T045510
CREATED:20231019T190601Z
LAST-MODIFIED:20231019T190601Z
UID:43205-1717545600-1717631999@www.scs.on.ca
SUMMARY:Wednesday A
DESCRIPTION:
URL:https://www.scs.on.ca/event/wednesday-a-6/2024-06-05/
END:VEVENT
BEGIN:VEVENT
DTSTART;TZID=America/Toronto:20240522T000000
DTEND;TZID=America/Toronto:20240522T235959
DTSTAMP:20260421T045510
CREATED:20231019T190601Z
LAST-MODIFIED:20231019T190601Z
UID:43204-1716336000-1716422399@www.scs.on.ca
SUMMARY:Wednesday A
DESCRIPTION:
URL:https://www.scs.on.ca/event/wednesday-a-6/2024-05-22/
END:VEVENT
BEGIN:VEVENT
DTSTART;TZID=America/Toronto:20240508T000000
DTEND;TZID=America/Toronto:20240508T235959
DTSTAMP:20260421T045510
CREATED:20231019T190601Z
LAST-MODIFIED:20231019T190601Z
UID:43203-1715126400-1715212799@www.scs.on.ca
SUMMARY:Wednesday A
DESCRIPTION:
URL:https://www.scs.on.ca/event/wednesday-a-6/2024-05-08/
END:VEVENT
BEGIN:VEVENT
DTSTART;TZID=America/Toronto:20240424T000000
DTEND;TZID=America/Toronto:20240424T235959
DTSTAMP:20260421T045510
CREATED:20231019T190601Z
LAST-MODIFIED:20231019T190601Z
UID:43202-1713916800-1714003199@www.scs.on.ca
SUMMARY:Wednesday A
DESCRIPTION:
URL:https://www.scs.on.ca/event/wednesday-a-6/2024-04-24/
END:VEVENT
BEGIN:VEVENT
DTSTART;TZID=America/Toronto:20240131T000000
DTEND;TZID=America/Toronto:20240131T235959
DTSTAMP:20260421T045510
CREATED:20231019T190601Z
LAST-MODIFIED:20231019T190603Z
UID:43196-1706659200-1706745599@www.scs.on.ca
SUMMARY:Wednesday A
DESCRIPTION:
URL:https://www.scs.on.ca/event/wednesday-a-6/2024-01-31/
END:VEVENT
END:VCALENDAR